BEGIN:VCALENDAR
PRODID:-//Kentico Software//NONSGML Kentico CMS//EN
VERSION:2.0
BEGIN:VEVENT
UID:a67f3680-7a09-4ba1-baea-6f66b264fe0f@shura.om
DTSTAMP:20260422T130452Z
DTSTART:20171029T100000Z
DTEND:20171102T020000Z
LOCATION:معهد الخبراء العرب
DESCRIPTION:تنمية مهارات المشاركين وصقل قدراتهم في مجالات:التعرف على قيمة الوقت وأهميته.طرق التحكم في الوقت.البعد عن مضيعات الوقت.الخطوات الرئيسية للإدارة الناجحة للوقت.تحديد الأولويات لخدمة إدارة الوقت.تطبيق استراتيجيات إدارة الوقت بفاعلية.تحديد ضغوط العمل وتأثيرها على أداء الفرد والمنظمة.فن التعامل مع الضغوط ونزاعات العمل.تطبيق القواعد الشكلية والموضوعية في إعداد التقارير والمذكرات ومحاضر الاجتماعات.المهارات الفنية لإعداد المراسلات ومحاضر الاجتماعات.\n\nمعهد الخبراء العرب
SUMMARY:إدارة الوقت والإدارة الفعالة للاجتماعات (للتنفيذيين)
PRIORITY:3
BEGIN:VALARM
TRIGGER:P0DT0H15M
ACTION:DISPLAY
DESCRIPTION:Reminder
END:VALARM
END:VEVENT
END:VCALENDAR
